Package: TFEA.ChIP Version: 1.24.0 Command: /Library/Frameworks/R.framework/Resources/bin/R CMD build --keep-empty-dirs --no-resave-data TFEA.ChIP StartedAt: 2024-10-16 23:56:58 -0400 (Wed, 16 Oct 2024) EndedAt: 2024-10-17 00:00:14 -0400 (Thu, 17 Oct 2024) EllapsedTime: 195.4 seconds RetCode: 0 Status: OK PackageFile: TFEA.ChIP_1.24.0.tar.gz PackageFileSize: 5.259 MiB