Package: TNBC.CMS Version: 1.20.0 Maintainer: Doyeong Yu MaintainerEmail: parklab.bi at gmail.com git_url: https://git.bioconductor.org/packages/TNBC.CMS git_branch: RELEASE_3_19 git_last_commit: 4bd5498 git_last_commit_date: 2024-04-30 11:13:35 -0400 (Tue, 30 Apr 2024)