Package: TNBC.CMS Version: 1.19.0 Command: /home/biocbuild/R/R-4.4-devel-2023.11.02/bin/R CMD check --install=check:TNBC.CMS.install-out.txt --library=/home/biocbuild/R/R-4.4-devel-2023.11.02/site-library --no-vignettes --timings TNBC.CMS_1.19.0.tar.gz StartedAt: 2023-12-14 09:22:39 -0000 (Thu, 14 Dec 2023) EndedAt: 2023-12-14 09:28:11 -0000 (Thu, 14 Dec 2023) EllapsedTime: 331.6 seconds RetCode: 0 Status: OK CheckDir: TNBC.CMS.Rcheck Warnings: 0