Package: TNBC.CMS Version: 1.19.0 Command: rm -rf TNBC.CMS.buildbin-libdir && mkdir TNBC.CMS.buildbin-libdir && /Users/biocbuild/BBS/utils/build-universal.sh TNBC.CMS_1.19.0.tar.gz /Library/Frameworks/R.framework/Resources/bin/R TNBC.CMS.buildbin-libdir StartedAt: 2023-12-14 11:38:45 -0500 (Thu, 14 Dec 2023) EndedAt: 2023-12-14 11:40:05 -0500 (Thu, 14 Dec 2023) EllapsedTime: 79.3 seconds RetCode: 0 Status: OK PackageFile: TNBC.CMS_1.19.0.tgz PackageFileSize: 3.098 MiB