Package: TNBC.CMS Version: 1.19.0 Command: rm -rf TNBC.CMS.buildbin-libdir && mkdir TNBC.CMS.buildbin-libdir && F:\biocbuild\bbs-3.19-bioc\R\bin\R.exe CMD INSTALL --build --library=TNBC.CMS.buildbin-libdir TNBC.CMS_1.19.0.tar.gz StartedAt: 2023-12-14 11:40:27 -0500 (Thu, 14 Dec 2023) EndedAt: 2023-12-14 11:41:13 -0500 (Thu, 14 Dec 2023) EllapsedTime: 46.7 seconds RetCode: 0 Status: OK PackageFile: TNBC.CMS_1.19.0.zip PackageFileSize: 3.102 MiB