Package: TNBC.CMS Version: 1.20.0 Command: chmod a+r TNBC.CMS -R && E:\biocbuild\bbs-3.19-bioc\R\bin\R.exe CMD build --keep-empty-dirs --no-resave-data TNBC.CMS StartedAt: 2024-10-16 22:22:04 -0400 (Wed, 16 Oct 2024) EndedAt: 2024-10-16 22:23:04 -0400 (Wed, 16 Oct 2024) EllapsedTime: 59.4 seconds RetCode: 1 Status: ERROR PackageFile: None PackageFileSize: NA