Package: TNBC.CMS Version: 1.20.0 Command: E:\biocbuild\bbs-3.19-bioc\R\bin\R.exe CMD INSTALL TNBC.CMS StartedAt: 2024-10-16 17:18:40 -0400 (Wed, 16 Oct 2024) EndedAt: 2024-10-16 17:19:24 -0400 (Wed, 16 Oct 2024) EllapsedTime: 43.9 seconds RetCode: 0 Status: OK