Package: TPP2D Version: 1.20.0 Command: rm -rf TPP2D.buildbin-libdir && mkdir TPP2D.buildbin-libdir && /Users/biocbuild/BBS/utils/build-universal.sh TPP2D_1.20.0.tar.gz /Library/Frameworks/R.framework/Resources/bin/R TPP2D.buildbin-libdir StartedAt: 2024-10-15 20:40:15 -0400 (Tue, 15 Oct 2024) EndedAt: 2024-10-15 20:40:26 -0400 (Tue, 15 Oct 2024) EllapsedTime: 11.2 seconds RetCode: 0 Status: OK PackageFile: TPP2D_1.20.0.tgz PackageFileSize: 1.888 MiB