Package: TPP2D Version: 1.20.0 Command: /Library/Frameworks/R.framework/Resources/bin/R CMD build --keep-empty-dirs --no-resave-data TPP2D StartedAt: 2024-10-17 00:01:33 -0400 (Thu, 17 Oct 2024) EndedAt: 2024-10-17 00:03:05 -0400 (Thu, 17 Oct 2024) EllapsedTime: 92.9 seconds RetCode: 0 Status: OK PackageFile: TPP2D_1.20.0.tar.gz PackageFileSize: 2.292 MiB