Package: TPP2D Version: 1.20.0 Command: /home/biocbuild/bbs-3.19-bioc/R/bin/R CMD INSTALL TPP2D StartedAt: 2024-10-16 16:41:58 -0400 (Wed, 16 Oct 2024) EndedAt: 2024-10-16 16:42:05 -0400 (Wed, 16 Oct 2024) EllapsedTime: 7.0 seconds RetCode: 0 Status: OK