Package: TPP2D Version: 1.20.0 Command: chmod a+r TPP2D -R && E:\biocbuild\bbs-3.19-bioc\R\bin\R.exe CMD build --keep-empty-dirs --no-resave-data TPP2D StartedAt: 2024-10-16 22:22:51 -0400 (Wed, 16 Oct 2024) EndedAt: 2024-10-16 22:23:41 -0400 (Wed, 16 Oct 2024) EllapsedTime: 49.1 seconds RetCode: 0 Status: OK PackageFile: TPP2D_1.20.0.tar.gz PackageFileSize: 2.134 MiB