Package: TRESS Version: 1.10.0 Command: rm -rf TRESS.buildbin-libdir && mkdir TRESS.buildbin-libdir && /Users/biocbuild/BBS/utils/build-universal.sh TRESS_1.10.0.tar.gz /Library/Frameworks/R.framework/Resources/bin/R TRESS.buildbin-libdir StartedAt: 2024-10-15 20:42:36 -0400 (Tue, 15 Oct 2024) EndedAt: 2024-10-15 20:43:27 -0400 (Tue, 15 Oct 2024) EllapsedTime: 50.8 seconds RetCode: 0 Status: OK PackageFile: TRESS_1.10.0.tgz PackageFileSize: 684.5 KiB