Package: TRESS Version: 1.10.0 Command: /Library/Frameworks/R.framework/Resources/bin/R CMD build --keep-empty-dirs --no-resave-data TRESS StartedAt: 2024-06-09 18:28:34 -0400 (Sun, 09 Jun 2024) EndedAt: 2024-06-09 18:28:36 -0400 (Sun, 09 Jun 2024) EllapsedTime: 2.3 seconds RetCode: 0 Status: OK PackageFile: TRESS_1.10.0.tar.gz PackageFileSize: 483.9 KiB