Package: TRESS Version: 1.10.0 Command: rm -rf TRESS.buildbin-libdir && mkdir TRESS.buildbin-libdir && E:\biocbuild\bbs-3.19-bioc\R\bin\R.exe CMD INSTALL --build --library=TRESS.buildbin-libdir TRESS_1.10.0.tar.gz StartedAt: 2024-10-17 08:48:54 -0400 (Thu, 17 Oct 2024) EndedAt: 2024-10-17 08:49:52 -0400 (Thu, 17 Oct 2024) EllapsedTime: 57.9 seconds RetCode: 0 Status: OK PackageFile: TRESS_1.10.0.zip PackageFileSize: 687.4 KiB