Package: TRESS Version: 1.10.0 Command: E:\biocbuild\bbs-3.19-bioc\R\bin\R.exe CMD check --no-multiarch --install=check:TRESS.install-out.txt --library=E:\biocbuild\bbs-3.19-bioc\R\library --no-vignettes --timings TRESS_1.10.0.tar.gz StartedAt: 2024-10-17 06:41:02 -0400 (Thu, 17 Oct 2024) EndedAt: 2024-10-17 06:47:00 -0400 (Thu, 17 Oct 2024) EllapsedTime: 357.6 seconds RetCode: 0 Status: OK CheckDir: TRESS.Rcheck Warnings: 0