Package: TRESS Version: 1.10.0 Command: E:\biocbuild\bbs-3.19-bioc\R\bin\R.exe CMD INSTALL TRESS StartedAt: 2024-10-16 16:29:01 -0400 (Wed, 16 Oct 2024) EndedAt: 2024-10-16 16:29:45 -0400 (Wed, 16 Oct 2024) EllapsedTime: 44.0 seconds RetCode: 0 Status: OK