Package: TSCAN Version: 1.42.0 Command: rm -rf TSCAN.buildbin-libdir && mkdir TSCAN.buildbin-libdir && /Users/biocbuild/BBS/utils/build-universal.sh TSCAN_1.42.0.tar.gz /Library/Frameworks/R.framework/Resources/bin/R TSCAN.buildbin-libdir StartedAt: 2024-10-15 20:43:50 -0400 (Tue, 15 Oct 2024) EndedAt: 2024-10-15 20:44:30 -0400 (Tue, 15 Oct 2024) EllapsedTime: 39.7 seconds RetCode: 0 Status: OK PackageFile: TSCAN_1.42.0.tgz PackageFileSize: 2.758 MiB