Package: TSCAN Version: 1.42.0 Command: /home/biocbuild/bbs-3.19-bioc/R/bin/R CMD build --keep-empty-dirs --no-resave-data TSCAN StartedAt: 2024-10-16 21:15:21 -0400 (Wed, 16 Oct 2024) EndedAt: 2024-10-16 21:16:04 -0400 (Wed, 16 Oct 2024) EllapsedTime: 43.1 seconds RetCode: 0 Status: OK PackageFile: TSCAN_1.42.0.tar.gz PackageFileSize: 2.677 MiB