Package: TSCAN Version: 1.42.0 Command: rm -rf TSCAN.buildbin-libdir && mkdir TSCAN.buildbin-libdir && F:\biocbuild\bbs-3.19-bioc\R\bin\R.exe CMD INSTALL --build --library=TSCAN.buildbin-libdir TSCAN_1.42.0.tar.gz StartedAt: 2024-06-27 09:04:39 -0400 (Thu, 27 Jun 2024) EndedAt: 2024-06-27 09:05:31 -0400 (Thu, 27 Jun 2024) EllapsedTime: 52.3 seconds RetCode: 0 Status: OK PackageFile: TSCAN_1.42.0.zip PackageFileSize: 2.764 MiB