Package: TTMap Version: 1.26.0 Command: /Library/Frameworks/R.framework/Resources/bin/R CMD build --keep-empty-dirs --no-resave-data TTMap StartedAt: 2024-06-10 06:16:56 -0400 (Mon, 10 Jun 2024) EndedAt: 2024-06-10 06:17:58 -0400 (Mon, 10 Jun 2024) EllapsedTime: 62.3 seconds RetCode: 0 Status: OK PackageFile: TTMap_1.26.0.tar.gz PackageFileSize: 1.61 MiB