Package: TTMap Version: 1.26.0 Command: /home/biocbuild/R/R-beta-2024-04-15_r86425/bin/R CMD INSTALL TTMap StartedAt: 2024-05-08 20:36:20 -0000 (Wed, 08 May 2024) EndedAt: 2024-05-08 20:36:50 -0000 (Wed, 08 May 2024) EllapsedTime: 29.7 seconds RetCode: 0 Status: OK