Package: TTMap Version: 1.26.0 Command: rm -rf TTMap.buildbin-libdir && mkdir TTMap.buildbin-libdir && /Users/biocbuild/BBS/utils/build-universal.sh TTMap_1.26.0.tar.gz /Library/Frameworks/R.framework/Resources/bin/R TTMap.buildbin-libdir StartedAt: 2024-06-10 00:44:45 -0400 (Mon, 10 Jun 2024) EndedAt: 2024-06-10 00:45:17 -0400 (Mon, 10 Jun 2024) EllapsedTime: 31.8 seconds RetCode: 0 Status: OK PackageFile: TTMap_1.26.0.tgz PackageFileSize: 1.391 MiB