Package: TTMap Version: 1.26.0 Command: /Library/Frameworks/R.framework/Resources/bin/R CMD INSTALL TTMap StartedAt: 2024-10-16 15:59:41 -0400 (Wed, 16 Oct 2024) EndedAt: 2024-10-16 16:00:32 -0400 (Wed, 16 Oct 2024) EllapsedTime: 51.0 seconds RetCode: 0 Status: OK