Package: TTMap Version: 1.26.0 Command: rm -rf TTMap.buildbin-libdir && mkdir TTMap.buildbin-libdir && E:\biocbuild\bbs-3.19-bioc\R\bin\R.exe CMD INSTALL --build --library=TTMap.buildbin-libdir TTMap_1.26.0.tar.gz StartedAt: 2024-10-17 08:49:18 -0400 (Thu, 17 Oct 2024) EndedAt: 2024-10-17 08:49:47 -0400 (Thu, 17 Oct 2024) EllapsedTime: 28.6 seconds RetCode: 0 Status: OK PackageFile: TTMap_1.26.0.zip PackageFileSize: 1.393 MiB