Package: TargetDecoy Version: 1.10.0 Command: rm -rf TargetDecoy.buildbin-libdir && mkdir TargetDecoy.buildbin-libdir && /Users/biocbuild/BBS/utils/build-universal.sh TargetDecoy_1.10.0.tar.gz /Library/Frameworks/R.framework/Resources/bin/R TargetDecoy.buildbin-libdir StartedAt: 2024-10-17 17:20:23 -0400 (Thu, 17 Oct 2024) EndedAt: 2024-10-17 17:20:44 -0400 (Thu, 17 Oct 2024) EllapsedTime: 20.9 seconds RetCode: 0 Status: OK PackageFile: TargetDecoy_1.10.0.tgz PackageFileSize: 3.886 MiB