Package: TimiRGeN Version: 1.14.0 Command: /Library/Frameworks/R.framework/Resources/bin/R CMD check --install=check:TimiRGeN.install-out.txt --library=/Library/Frameworks/R.framework/Resources/library --no-vignettes --timings TimiRGeN_1.14.0.tar.gz StartedAt: 2024-10-18 15:16:41 -0400 (Fri, 18 Oct 2024) EndedAt: 2024-10-18 15:27:19 -0400 (Fri, 18 Oct 2024) EllapsedTime: 638.4 seconds RetCode: 1 Status: ERROR CheckDir: TimiRGeN.Rcheck Warnings: NA