Package: TimiRGeN Version: 1.14.0 Command: /Library/Frameworks/R.framework/Resources/bin/R CMD check --install=check:TimiRGeN.install-out.txt --library=/Library/Frameworks/R.framework/Resources/library --no-vignettes --timings TimiRGeN_1.14.0.tar.gz StartedAt: 2024-06-11 08:19:19 -0400 (Tue, 11 Jun 2024) EndedAt: 2024-06-11 08:59:19 -0400 (Tue, 11 Jun 2024) EllapsedTime: 2400.6 seconds RetCode: None Status: TIMEOUT CheckDir: TimiRGeN.Rcheck Warnings: NA