Package: TimiRGeN Version: 1.14.0 Command: /home/biocbuild/R/R-beta-2024-04-15_r86425/bin/R CMD build --keep-empty-dirs --no-resave-data TimiRGeN StartedAt: 2024-05-09 04:07:55 -0000 (Thu, 09 May 2024) EndedAt: 2024-05-09 04:09:28 -0000 (Thu, 09 May 2024) EllapsedTime: 93.1 seconds RetCode: 0 Status: OK PackageFile: TimiRGeN_1.14.0.tar.gz PackageFileSize: 4.387 MiB