Package: TimiRGeN Version: 1.14.0 Command: /home/biocbuild/R/R-beta-2024-04-15_r86425/bin/R CMD INSTALL TimiRGeN StartedAt: 2024-05-08 20:49:52 -0000 (Wed, 08 May 2024) EndedAt: 2024-05-08 20:50:59 -0000 (Wed, 08 May 2024) EllapsedTime: 66.9 seconds RetCode: 0 Status: OK