Package: TimiRGeN Version: 1.14.0 Command: /Library/Frameworks/R.framework/Resources/bin/R CMD check --install=check:TimiRGeN.install-out.txt --library=/Library/Frameworks/R.framework/Resources/library --no-vignettes --timings TimiRGeN_1.14.0.tar.gz StartedAt: 2024-10-17 14:24:32 -0400 (Thu, 17 Oct 2024) EndedAt: 2024-10-17 14:44:27 -0400 (Thu, 17 Oct 2024) EllapsedTime: 1195.0 seconds RetCode: 1 Status: ERROR CheckDir: TimiRGeN.Rcheck Warnings: NA