Package: TimiRGeN Version: 1.14.0 Command: rm -rf TimiRGeN.buildbin-libdir && mkdir TimiRGeN.buildbin-libdir && F:\biocbuild\bbs-3.19-bioc\R\bin\R.exe CMD INSTALL --build --library=TimiRGeN.buildbin-libdir TimiRGeN_1.14.0.tar.gz StartedAt: 2024-06-27 09:02:56 -0400 (Thu, 27 Jun 2024) EndedAt: 2024-06-27 09:03:58 -0400 (Thu, 27 Jun 2024) EllapsedTime: 62.5 seconds RetCode: 0 Status: OK PackageFile: TimiRGeN_1.14.0.zip PackageFileSize: 2.797 MiB