Package: TimiRGeN Version: 1.14.0 Command: chmod a+r TimiRGeN -R && F:\biocbuild\bbs-3.19-bioc\R\bin\R.exe CMD build --keep-empty-dirs --no-resave-data TimiRGeN StartedAt: 2024-06-26 22:23:21 -0400 (Wed, 26 Jun 2024) EndedAt: 2024-06-26 22:24:55 -0400 (Wed, 26 Jun 2024) EllapsedTime: 94.7 seconds RetCode: 0 Status: OK PackageFile: TimiRGeN_1.14.0.tar.gz PackageFileSize: 4.323 MiB