Package: UniProt.ws Version: 2.44.0 Command: /home/biocbuild/R/R-beta-2024-04-15_r86425/bin/R CMD build --keep-empty-dirs --no-resave-data UniProt.ws StartedAt: 2024-05-09 04:16:23 -0000 (Thu, 09 May 2024) EndedAt: 2024-05-09 04:17:00 -0000 (Thu, 09 May 2024) EllapsedTime: 37.0 seconds RetCode: 0 Status: OK PackageFile: UniProt.ws_2.44.0.tar.gz PackageFileSize: 262 KiB