Package: UniProt.ws Version: 2.44.0 Command: /home/biocbuild/R/R-beta-2024-04-15_r86425/bin/R CMD INSTALL UniProt.ws StartedAt: 2024-05-08 20:17:48 -0000 (Wed, 08 May 2024) EndedAt: 2024-05-08 20:18:09 -0000 (Wed, 08 May 2024) EllapsedTime: 21.7 seconds RetCode: 0 Status: OK