Package: UniProt.ws Version: 2.44.0 Command: rm -rf UniProt.ws.buildbin-libdir && mkdir UniProt.ws.buildbin-libdir && E:\biocbuild\bbs-3.19-bioc\R\bin\R.exe CMD INSTALL --build --library=UniProt.ws.buildbin-libdir UniProt.ws_2.44.0.tar.gz StartedAt: 2024-10-17 08:49:48 -0400 (Thu, 17 Oct 2024) EndedAt: 2024-10-17 08:50:24 -0400 (Thu, 17 Oct 2024) EllapsedTime: 35.3 seconds RetCode: 0 Status: OK PackageFile: UniProt.ws_2.44.0.zip PackageFileSize: 506.2 KiB