Package: VAExprs Version: 1.10.0 Command: rm -rf VAExprs.buildbin-libdir && mkdir VAExprs.buildbin-libdir && /Users/biocbuild/BBS/utils/build-universal.sh VAExprs_1.10.0.tar.gz /Library/Frameworks/R.framework/Resources/bin/R VAExprs.buildbin-libdir StartedAt: 2024-10-15 20:45:45 -0400 (Tue, 15 Oct 2024) EndedAt: 2024-10-15 20:46:34 -0400 (Tue, 15 Oct 2024) EllapsedTime: 48.8 seconds RetCode: 0 Status: OK PackageFile: VAExprs_1.10.0.tgz PackageFileSize: 240 KiB