Package: VCFArray Version: 1.20.0 Command: /home/biocbuild/R/R-beta-2024-04-15_r86425/bin/R CMD build --keep-empty-dirs --no-resave-data VCFArray StartedAt: 2024-05-09 04:18:29 -0000 (Thu, 09 May 2024) EndedAt: 2024-05-09 04:20:09 -0000 (Thu, 09 May 2024) EllapsedTime: 100.1 seconds RetCode: 0 Status: OK PackageFile: VCFArray_1.20.0.tar.gz PackageFileSize: 368.6 KiB