Package: VCFArray Version: 1.20.0 Command: /home/biocbuild/R/R-beta-2024-04-15_r86425/bin/R CMD check --install=check:VCFArray.install-out.txt --library=/home/biocbuild/R/R-beta-2024-04-15_r86425/site-library --no-vignettes --timings VCFArray_1.20.0.tar.gz StartedAt: 2024-05-08 13:02:46 -0000 (Wed, 08 May 2024) EndedAt: 2024-05-08 13:09:02 -0000 (Wed, 08 May 2024) EllapsedTime: 375.6 seconds RetCode: 0 Status: OK CheckDir: VCFArray.Rcheck Warnings: 0