Package: VCFArray Version: 1.20.0 Command: /Library/Frameworks/R.framework/Resources/bin/R CMD build --keep-empty-dirs --no-resave-data VCFArray StartedAt: 2024-06-09 18:31:06 -0400 (Sun, 09 Jun 2024) EndedAt: 2024-06-09 18:32:28 -0400 (Sun, 09 Jun 2024) EllapsedTime: 82.2 seconds RetCode: 0 Status: OK PackageFile: VCFArray_1.20.0.tar.gz PackageFileSize: 302.6 KiB