Package: VCFArray Version: 1.20.0 Command: /Library/Frameworks/R.framework/Resources/bin/R CMD check --install=check:VCFArray.install-out.txt --library=/Library/Frameworks/R.framework/Resources/library --no-vignettes --timings VCFArray_1.20.0.tar.gz StartedAt: 2024-06-09 23:45:26 -0400 (Sun, 09 Jun 2024) EndedAt: 2024-06-09 23:50:40 -0400 (Sun, 09 Jun 2024) EllapsedTime: 313.4 seconds RetCode: 0 Status: OK CheckDir: VCFArray.Rcheck Warnings: 0