Package: VCFArray Version: 1.20.0 Command: /Library/Frameworks/R.framework/Resources/bin/R CMD check --install=check:VCFArray.install-out.txt --library=/Library/Frameworks/R.framework/Resources/library --no-vignettes --timings VCFArray_1.20.0.tar.gz StartedAt: 2024-10-17 14:55:26 -0400 (Thu, 17 Oct 2024) EndedAt: 2024-10-17 15:06:30 -0400 (Thu, 17 Oct 2024) EllapsedTime: 663.5 seconds RetCode: 0 Status: OK CheckDir: VCFArray.Rcheck Warnings: 0