Package: VCFArray Version: 1.20.0 Command: rm -rf VCFArray.buildbin-libdir && mkdir VCFArray.buildbin-libdir && E:\biocbuild\bbs-3.19-bioc\R\bin\R.exe CMD INSTALL --build --library=VCFArray.buildbin-libdir VCFArray_1.20.0.tar.gz StartedAt: 2024-10-17 08:50:13 -0400 (Thu, 17 Oct 2024) EndedAt: 2024-10-17 08:51:13 -0400 (Thu, 17 Oct 2024) EllapsedTime: 60.3 seconds RetCode: 0 Status: OK PackageFile: VCFArray_1.20.0.zip PackageFileSize: 1.04 MiB