Package: VERSO Version: 1.14.0 Command: /Library/Frameworks/R.framework/Resources/bin/R CMD build --keep-empty-dirs --no-resave-data VERSO StartedAt: 2024-10-17 11:23:06 -0400 (Thu, 17 Oct 2024) EndedAt: 2024-10-17 11:23:18 -0400 (Thu, 17 Oct 2024) EllapsedTime: 11.5 seconds RetCode: 0 Status: OK PackageFile: VERSO_1.14.0.tar.gz PackageFileSize: 626.1 KiB