Package: VERSO Version: 1.14.0 Command: /Library/Frameworks/R.framework/Resources/bin/R CMD build --keep-empty-dirs --no-resave-data VERSO StartedAt: 2024-06-10 06:30:21 -0400 (Mon, 10 Jun 2024) EndedAt: 2024-06-10 06:30:35 -0400 (Mon, 10 Jun 2024) EllapsedTime: 14.2 seconds RetCode: 0 Status: OK PackageFile: VERSO_1.14.0.tar.gz PackageFileSize: 626.1 KiB