Package: VERSO Version: 1.14.0 Command: /home/biocbuild/R/R-beta-2024-04-15_r86425/bin/R CMD check --install=check:VERSO.install-out.txt --library=/home/biocbuild/R/R-beta-2024-04-15_r86425/site-library --no-vignettes --timings VERSO_1.14.0.tar.gz StartedAt: 2024-05-08 13:05:25 -0000 (Wed, 08 May 2024) EndedAt: 2024-05-08 13:05:53 -0000 (Wed, 08 May 2024) EllapsedTime: 28.1 seconds RetCode: 0 Status: OK CheckDir: VERSO.Rcheck Warnings: 0