Package: VERSO Version: 1.14.0 Command: /Library/Frameworks/R.framework/Resources/bin/R CMD build --keep-empty-dirs --no-resave-data VERSO StartedAt: 2024-06-09 18:31:26 -0400 (Sun, 09 Jun 2024) EndedAt: 2024-06-09 18:31:38 -0400 (Sun, 09 Jun 2024) EllapsedTime: 11.3 seconds RetCode: 0 Status: OK PackageFile: VERSO_1.14.0.tar.gz PackageFileSize: 626.2 KiB