Package: VERSO Version: 1.14.0 Command: chmod a+r VERSO -R && F:\biocbuild\bbs-3.19-bioc\R\bin\R.exe CMD build --keep-empty-dirs --no-resave-data VERSO StartedAt: 2024-06-26 22:32:53 -0400 (Wed, 26 Jun 2024) EndedAt: 2024-06-26 22:33:12 -0400 (Wed, 26 Jun 2024) EllapsedTime: 19.5 seconds RetCode: 0 Status: OK PackageFile: VERSO_1.14.0.tar.gz PackageFileSize: 612 KiB