Package: VERSO Version: 1.14.0 Command: F:\biocbuild\bbs-3.19-bioc\R\bin\R.exe CMD check --no-multiarch --install=check:VERSO.install-out.txt --library=F:\biocbuild\bbs-3.19-bioc\R\library --no-vignettes --timings VERSO_1.14.0.tar.gz StartedAt: 2024-06-27 07:18:36 -0400 (Thu, 27 Jun 2024) EndedAt: 2024-06-27 07:19:16 -0400 (Thu, 27 Jun 2024) EllapsedTime: 39.9 seconds RetCode: 0 Status: OK CheckDir: VERSO.Rcheck Warnings: 0