Package: VERSO Version: 1.14.0 Command: chmod a+r VERSO -R && E:\biocbuild\bbs-3.19-bioc\R\bin\R.exe CMD build --keep-empty-dirs --no-resave-data VERSO StartedAt: 2024-10-16 22:30:01 -0400 (Wed, 16 Oct 2024) EndedAt: 2024-10-16 22:30:17 -0400 (Wed, 16 Oct 2024) EllapsedTime: 15.4 seconds RetCode: 0 Status: OK PackageFile: VERSO_1.14.0.tar.gz PackageFileSize: 612 KiB