Package: VERSO Version: 1.14.0 Command: E:\biocbuild\bbs-3.19-bioc\R\bin\R.exe CMD check --no-multiarch --install=check:VERSO.install-out.txt --library=E:\biocbuild\bbs-3.19-bioc\R\library --no-vignettes --timings VERSO_1.14.0.tar.gz StartedAt: 2024-10-17 06:49:40 -0400 (Thu, 17 Oct 2024) EndedAt: 2024-10-17 06:50:19 -0400 (Thu, 17 Oct 2024) EllapsedTime: 39.1 seconds RetCode: 0 Status: OK CheckDir: VERSO.Rcheck Warnings: 0